Package: ropls Version: 1.39.0 Command: /home/biocbuild/R/R/bin/R CMD check --install=check:ropls.install-out.txt --library=/home/biocbuild/R/R/site-library --no-vignettes --timings ropls_1.39.0.tar.gz StartedAt: 2025-01-28 14:42:24 -0000 (Tue, 28 Jan 2025) EndedAt: 2025-01-28 14:47:32 -0000 (Tue, 28 Jan 2025) EllapsedTime: 308.4 seconds RetCode: 0 Status: OK CheckDir: ropls.Rcheck Warnings: 0