Package: ropls Version: 1.39.0 Command: /Library/Frameworks/R.framework/Resources/bin/R CMD build --keep-empty-dirs --no-resave-data ropls StartedAt: 2025-02-09 18:13:35 -0500 (Sun, 09 Feb 2025) EndedAt: 2025-02-09 18:14:57 -0500 (Sun, 09 Feb 2025) EllapsedTime: 82.4 seconds RetCode: 0 Status: OK PackageFile: ropls_1.39.0.tar.gz PackageFileSize: 5.541 MiB