Package: ropls Version: 1.39.0 Command: /Library/Frameworks/R.framework/Resources/bin/R CMD check --install=check:ropls.install-out.txt --library=/Library/Frameworks/R.framework/Resources/library --no-vignettes --timings ropls_1.39.0.tar.gz StartedAt: 2025-02-09 23:12:39 -0500 (Sun, 09 Feb 2025) EndedAt: 2025-02-09 23:17:45 -0500 (Sun, 09 Feb 2025) EllapsedTime: 305.9 seconds RetCode: 0 Status: OK CheckDir: ropls.Rcheck Warnings: 0