Package: ropls Version: 1.39.0 Command: /home/biocbuild/bbs-3.21-bioc/R/bin/R CMD build --keep-empty-dirs --no-resave-data ropls StartedAt: 2025-02-03 19:09:04 -0500 (Mon, 03 Feb 2025) EndedAt: 2025-02-03 19:10:11 -0500 (Mon, 03 Feb 2025) EllapsedTime: 67.1 seconds RetCode: 0 Status: OK PackageFile: ropls_1.39.0.tar.gz PackageFileSize: 5.603 MiB