Package: ropls Version: 1.39.0 Command: /home/biocbuild/bbs-3.21-bioc/R/bin/R CMD INSTALL ropls StartedAt: 2025-02-03 15:29:15 -0500 (Mon, 03 Feb 2025) EndedAt: 2025-02-03 15:29:44 -0500 (Mon, 03 Feb 2025) EllapsedTime: 28.9 seconds RetCode: 0 Status: OK