Package: ropls Version: 1.39.0 Command: chmod a+r ropls -R && E:\biocbuild\bbs-3.21-bioc\R\bin\R.exe CMD build --keep-empty-dirs --no-resave-data ropls StartedAt: 2025-02-09 21:16:24 -0500 (Sun, 09 Feb 2025) EndedAt: 2025-02-09 21:18:08 -0500 (Sun, 09 Feb 2025) EllapsedTime: 104.1 seconds RetCode: 0 Status: OK PackageFile: ropls_1.39.0.tar.gz PackageFileSize: 4.048 MiB