Package: ropls Version: 1.39.0 Command: E:\biocbuild\bbs-3.21-bioc\R\bin\R.exe CMD INSTALL ropls StartedAt: 2025-02-03 17:07:41 -0500 (Mon, 03 Feb 2025) EndedAt: 2025-02-03 17:08:31 -0500 (Mon, 03 Feb 2025) EllapsedTime: 50.0 seconds RetCode: 0 Status: OK