Package: rprimer Version: 1.11.0 Command: rm -rf rprimer.buildbin-libdir && mkdir rprimer.buildbin-libdir && /Users/biocbuild/BBS/utils/build-universal.sh rprimer_1.11.0.tar.gz /Library/Frameworks/R.framework/Resources/bin/R rprimer.buildbin-libdir StartedAt: 2025-02-13 00:55:31 -0500 (Thu, 13 Feb 2025) EndedAt: 2025-02-13 00:55:58 -0500 (Thu, 13 Feb 2025) EllapsedTime: 27.6 seconds RetCode: 0 Status: OK PackageFile: rprimer_1.11.0.tgz PackageFileSize: 3.594 MiB