Package: rprimer Version: 1.11.0 Command: /Library/Frameworks/R.framework/Resources/bin/R CMD INSTALL rprimer StartedAt: 2025-02-12 15:27:12 -0500 (Wed, 12 Feb 2025) EndedAt: 2025-02-12 15:27:37 -0500 (Wed, 12 Feb 2025) EllapsedTime: 24.4 seconds RetCode: 0 Status: OK