Package: rpx Version: 2.15.1 Command: rm -rf rpx.buildbin-libdir && mkdir rpx.buildbin-libdir && /Users/biocbuild/BBS/utils/build-universal.sh rpx_2.15.1.tar.gz /Library/Frameworks/R.framework/Resources/bin/R rpx.buildbin-libdir StartedAt: 2025-02-09 22:28:38 -0500 (Sun, 09 Feb 2025) EndedAt: 2025-02-09 22:28:41 -0500 (Sun, 09 Feb 2025) EllapsedTime: 3.1 seconds RetCode: 0 Status: OK PackageFile: rpx_2.15.1.tgz PackageFileSize: 486.7 KiB