Package: rpx Version: 2.15.1 Command: /Library/Frameworks/R.framework/Resources/bin/R CMD check --install=check:rpx.install-out.txt --library=/Library/Frameworks/R.framework/Resources/library --no-vignettes --timings rpx_2.15.1.tar.gz StartedAt: 2025-02-09 21:04:17 -0500 (Sun, 09 Feb 2025) EndedAt: 2025-02-09 21:04:44 -0500 (Sun, 09 Feb 2025) EllapsedTime: 27.3 seconds RetCode: 0 Status: OK CheckDir: rpx.Rcheck Warnings: 0