Package: rpx Version: 2.15.1 Command: /Library/Frameworks/R.framework/Resources/bin/R CMD INSTALL rpx StartedAt: 2025-02-09 15:07:49 -0500 (Sun, 09 Feb 2025) EndedAt: 2025-02-09 15:07:51 -0500 (Sun, 09 Feb 2025) EllapsedTime: 2.5 seconds RetCode: 0 Status: OK