Package: rpx Version: 2.15.0 Command: /home/biocbuild/R/R/bin/R CMD build --keep-empty-dirs --no-resave-data rpx StartedAt: 2025-01-29 01:51:17 -0000 (Wed, 29 Jan 2025) EndedAt: 2025-01-29 01:51:39 -0000 (Wed, 29 Jan 2025) EllapsedTime: 22.0 seconds RetCode: 0 Status: OK PackageFile: rpx_2.15.0.tar.gz PackageFileSize: 383.6 KiB