Package: rpx Version: 2.15.1 Command: /Library/Frameworks/R.framework/Resources/bin/R CMD build --keep-empty-dirs --no-resave-data rpx StartedAt: 2025-02-09 18:13:56 -0500 (Sun, 09 Feb 2025) EndedAt: 2025-02-09 18:14:16 -0500 (Sun, 09 Feb 2025) EllapsedTime: 19.5 seconds RetCode: 0 Status: OK PackageFile: rpx_2.15.1.tar.gz PackageFileSize: 316.8 KiB