Package: rpx Version: 2.15.1 Command: /Library/Frameworks/R.framework/Resources/bin/R CMD INSTALL rpx StartedAt: 2025-02-09 15:14:34 -0500 (Sun, 09 Feb 2025) EndedAt: 2025-02-09 15:14:44 -0500 (Sun, 09 Feb 2025) EllapsedTime: 9.3 seconds RetCode: 0 Status: OK