Package: rpx Version: 2.15.1 Command: /home/biocbuild/bbs-3.21-bioc/R/bin/R CMD build --keep-empty-dirs --no-resave-data rpx StartedAt: 2025-02-09 19:00:46 -0500 (Sun, 09 Feb 2025) EndedAt: 2025-02-09 19:01:00 -0500 (Sun, 09 Feb 2025) EllapsedTime: 14.0 seconds RetCode: 0 Status: OK PackageFile: rpx_2.15.1.tar.gz PackageFileSize: 316.9 KiB