Package: rpx Version: 2.15.1 Command: /home/biocbuild/bbs-3.21-bioc/R/bin/R CMD INSTALL rpx StartedAt: 2025-02-09 15:09:41 -0500 (Sun, 09 Feb 2025) EndedAt: 2025-02-09 15:09:48 -0500 (Sun, 09 Feb 2025) EllapsedTime: 7.0 seconds RetCode: 0 Status: OK