Package: rpx Version: 2.15.1 Command: rm -rf rpx.buildbin-libdir && mkdir rpx.buildbin-libdir && E:\biocbuild\bbs-3.21-bioc\R\bin\R.exe CMD INSTALL --build --library=rpx.buildbin-libdir rpx_2.15.1.tar.gz StartedAt: 2025-02-10 08:35:41 -0500 (Mon, 10 Feb 2025) EndedAt: 2025-02-10 08:36:02 -0500 (Mon, 10 Feb 2025) EllapsedTime: 21.1 seconds RetCode: 0 Status: OK PackageFile: rpx_2.15.1.zip PackageFileSize: 489.4 KiB