Package: rpx Version: 2.15.1 Command: chmod a+r rpx -R && E:\biocbuild\bbs-3.21-bioc\R\bin\R.exe CMD build --keep-empty-dirs --no-resave-data rpx StartedAt: 2025-02-09 21:17:28 -0500 (Sun, 09 Feb 2025) EndedAt: 2025-02-09 21:17:54 -0500 (Sun, 09 Feb 2025) EllapsedTime: 26.1 seconds RetCode: 0 Status: OK PackageFile: rpx_2.15.1.tar.gz PackageFileSize: 316.9 KiB