Package: rpx Version: 2.15.1 Command: E:\biocbuild\bbs-3.21-bioc\R\bin\R.exe CMD check --no-multiarch --install=check:rpx.install-out.txt --library=E:\biocbuild\bbs-3.21-bioc\R\library --no-vignettes --timings rpx_2.15.1.tar.gz StartedAt: 2025-02-10 04:53:14 -0500 (Mon, 10 Feb 2025) EndedAt: 2025-02-10 04:54:23 -0500 (Mon, 10 Feb 2025) EllapsedTime: 69.7 seconds RetCode: 0 Status: OK CheckDir: rpx.Rcheck Warnings: 0