Package: rqubic Version: 1.53.0 Command: rm -rf rqubic.buildbin-libdir && mkdir rqubic.buildbin-libdir && /Users/biocbuild/BBS/utils/build-universal.sh rqubic_1.53.0.tar.gz /Library/Frameworks/R.framework/Resources/bin/R rqubic.buildbin-libdir StartedAt: 2025-02-09 22:28:41 -0500 (Sun, 09 Feb 2025) EndedAt: 2025-02-09 22:28:46 -0500 (Sun, 09 Feb 2025) EllapsedTime: 5.1 seconds RetCode: 0 Status: OK PackageFile: rqubic_1.53.0.tgz PackageFileSize: 435.7 KiB