Package: rqubic Version: 1.53.0 Command: /Library/Frameworks/R.framework/Resources/bin/R CMD build --keep-empty-dirs --no-resave-data rqubic StartedAt: 2025-02-09 18:14:16 -0500 (Sun, 09 Feb 2025) EndedAt: 2025-02-09 18:14:38 -0500 (Sun, 09 Feb 2025) EllapsedTime: 21.8 seconds RetCode: 0 Status: OK PackageFile: rqubic_1.53.0.tar.gz PackageFileSize: 189.3 KiB