Package: rqubic Version: 1.53.0 Command: /Library/Frameworks/R.framework/Resources/bin/R CMD check --install=check:rqubic.install-out.txt --library=/Library/Frameworks/R.framework/Resources/library --no-vignettes --timings rqubic_1.53.0.tar.gz StartedAt: 2025-02-12 23:00:03 -0500 (Wed, 12 Feb 2025) EndedAt: 2025-02-12 23:01:17 -0500 (Wed, 12 Feb 2025) EllapsedTime: 73.5 seconds RetCode: 0 Status: OK CheckDir: rqubic.Rcheck Warnings: 0