Package: rqubic Version: 1.53.0 Command: E:\biocbuild\bbs-3.21-bioc\R\bin\R.exe CMD INSTALL rqubic StartedAt: 2025-02-12 16:46:06 -0500 (Wed, 12 Feb 2025) EndedAt: 2025-02-12 16:46:34 -0500 (Wed, 12 Feb 2025) EllapsedTime: 28.1 seconds RetCode: 0 Status: OK