Package: rrvgo Version: 1.19.0 Command: rm -rf rrvgo.buildbin-libdir && mkdir rrvgo.buildbin-libdir && /Users/biocbuild/BBS/utils/build-universal.sh rrvgo_1.19.0.tar.gz /Library/Frameworks/R.framework/Resources/bin/R rrvgo.buildbin-libdir StartedAt: 2025-02-13 00:55:43 -0500 (Thu, 13 Feb 2025) EndedAt: 2025-02-13 00:56:13 -0500 (Thu, 13 Feb 2025) EllapsedTime: 30.1 seconds RetCode: 0 Status: OK PackageFile: rrvgo_1.19.0.tgz PackageFileSize: 1.393 MiB