Package: rrvgo Version: 1.19.0 Command: /Library/Frameworks/R.framework/Resources/bin/R CMD build --keep-empty-dirs --no-resave-data rrvgo StartedAt: 2025-02-09 18:14:34 -0500 (Sun, 09 Feb 2025) EndedAt: 2025-02-09 18:19:29 -0500 (Sun, 09 Feb 2025) EllapsedTime: 295.2 seconds RetCode: 0 Status: OK PackageFile: rrvgo_1.19.0.tar.gz PackageFileSize: 1.867 MiB