Package: rrvgo Version: 1.19.0 Command: /Library/Frameworks/R.framework/Resources/bin/R CMD check --install=check:rrvgo.install-out.txt --library=/Library/Frameworks/R.framework/Resources/library --no-vignettes --timings rrvgo_1.19.0.tar.gz StartedAt: 2025-02-09 23:14:50 -0500 (Sun, 09 Feb 2025) EndedAt: 2025-02-09 23:46:13 -0500 (Sun, 09 Feb 2025) EllapsedTime: 1882.4 seconds RetCode: 0 Status: OK CheckDir: rrvgo.Rcheck Warnings: 0