Package: rrvgo Version: 1.19.0 Command: /Library/Frameworks/R.framework/Resources/bin/R CMD INSTALL rrvgo StartedAt: 2025-02-09 15:25:49 -0500 (Sun, 09 Feb 2025) EndedAt: 2025-02-09 15:26:15 -0500 (Sun, 09 Feb 2025) EllapsedTime: 26.3 seconds RetCode: 0 Status: OK