Package: rrvgo Version: 1.19.0 Command: /home/biocbuild/bbs-3.21-bioc/R/bin/R CMD INSTALL rrvgo StartedAt: 2025-02-09 15:39:11 -0500 (Sun, 09 Feb 2025) EndedAt: 2025-02-09 15:39:31 -0500 (Sun, 09 Feb 2025) EllapsedTime: 19.7 seconds RetCode: 0 Status: OK