Package: rrvgo Version: 1.19.0 Command: chmod a+r rrvgo -R && E:\biocbuild\bbs-3.21-bioc\R\bin\R.exe CMD build --keep-empty-dirs --no-resave-data rrvgo StartedAt: 2025-02-09 21:17:59 -0500 (Sun, 09 Feb 2025) EndedAt: 2025-02-09 21:21:47 -0500 (Sun, 09 Feb 2025) EllapsedTime: 227.5 seconds RetCode: 0 Status: OK PackageFile: rrvgo_1.19.0.tar.gz PackageFileSize: 1.545 MiB