Package: rrvgo Version: 1.19.0 Command: E:\biocbuild\bbs-3.21-bioc\R\bin\R.exe CMD check --no-multiarch --install=check:rrvgo.install-out.txt --library=E:\biocbuild\bbs-3.21-bioc\R\library --no-vignettes --timings rrvgo_1.19.0.tar.gz StartedAt: 2025-02-13 05:03:16 -0500 (Thu, 13 Feb 2025) EndedAt: 2025-02-13 05:23:39 -0500 (Thu, 13 Feb 2025) EllapsedTime: 1223.8 seconds RetCode: 0 Status: OK CheckDir: rrvgo.Rcheck Warnings: 0