Package: rsemmed Version: 1.17.0 Command: /Library/Frameworks/R.framework/Resources/bin/R CMD check --install=check:rsemmed.install-out.txt --library=/Library/Frameworks/R.framework/Resources/library --no-vignettes --timings rsemmed_1.17.0.tar.gz StartedAt: 2025-02-03 21:41:14 -0500 (Mon, 03 Feb 2025) EndedAt: 2025-02-03 21:41:31 -0500 (Mon, 03 Feb 2025) EllapsedTime: 17.3 seconds RetCode: 0 Status: OK CheckDir: rsemmed.Rcheck Warnings: 0