Package: rsemmed Version: 1.17.0 Command: /Library/Frameworks/R.framework/Resources/bin/R CMD INSTALL rsemmed StartedAt: 2025-02-03 15:38:25 -0500 (Mon, 03 Feb 2025) EndedAt: 2025-02-03 15:38:35 -0500 (Mon, 03 Feb 2025) EllapsedTime: 9.5 seconds RetCode: 0 Status: OK