Package: rsemmed Version: 1.17.0 Command: /home/biocbuild/R/R/bin/R CMD INSTALL rsemmed StartedAt: 2025-01-29 19:35:25 -0000 (Wed, 29 Jan 2025) EndedAt: 2025-01-29 19:35:52 -0000 (Wed, 29 Jan 2025) EllapsedTime: 27.6 seconds RetCode: 0 Status: OK