Package: rsemmed Version: 1.17.0 Command: /Library/Frameworks/R.framework/Resources/bin/R CMD build --keep-empty-dirs --no-resave-data rsemmed StartedAt: 2025-02-09 18:14:38 -0500 (Sun, 09 Feb 2025) EndedAt: 2025-02-09 18:15:10 -0500 (Sun, 09 Feb 2025) EllapsedTime: 32.1 seconds RetCode: 0 Status: OK PackageFile: rsemmed_1.17.0.tar.gz PackageFileSize: 2.161 MiB