Package: rsemmed Version: 1.17.0 Command: /Library/Frameworks/R.framework/Resources/bin/R CMD check --install=check:rsemmed.install-out.txt --library=/Library/Frameworks/R.framework/Resources/library --no-vignettes --timings rsemmed_1.17.0.tar.gz StartedAt: 2025-02-09 23:15:13 -0500 (Sun, 09 Feb 2025) EndedAt: 2025-02-09 23:16:32 -0500 (Sun, 09 Feb 2025) EllapsedTime: 78.5 seconds RetCode: 0 Status: OK CheckDir: rsemmed.Rcheck Warnings: 0