Package: rsemmed Version: 1.17.0 Command: /Library/Frameworks/R.framework/Resources/bin/R CMD INSTALL rsemmed StartedAt: 2025-02-09 15:07:28 -0500 (Sun, 09 Feb 2025) EndedAt: 2025-02-09 15:08:04 -0500 (Sun, 09 Feb 2025) EllapsedTime: 36.1 seconds RetCode: 0 Status: OK