Package: rsemmed Version: 1.17.0 Command: /home/biocbuild/bbs-3.21-bioc/R/bin/R CMD build --keep-empty-dirs --no-resave-data rsemmed StartedAt: 2025-02-09 19:01:22 -0500 (Sun, 09 Feb 2025) EndedAt: 2025-02-09 19:01:43 -0500 (Sun, 09 Feb 2025) EllapsedTime: 21.1 seconds RetCode: 0 Status: OK PackageFile: rsemmed_1.17.0.tar.gz PackageFileSize: 2.125 MiB