Package: rsemmed Version: 1.17.0 Command: /home/biocbuild/bbs-3.21-bioc/R/bin/R CMD check --install=check:rsemmed.install-out.txt --library=/home/biocbuild/bbs-3.21-bioc/R/site-library --timings rsemmed_1.17.0.tar.gz StartedAt: 2025-02-10 02:07:36 -0500 (Mon, 10 Feb 2025) EndedAt: 2025-02-10 02:08:24 -0500 (Mon, 10 Feb 2025) EllapsedTime: 48.2 seconds RetCode: 0 Status: OK CheckDir: rsemmed.Rcheck Warnings: 0