Package: rsemmed Version: 1.17.0 Command: /home/biocbuild/bbs-3.21-bioc/R/bin/R CMD INSTALL rsemmed StartedAt: 2025-02-09 15:09:46 -0500 (Sun, 09 Feb 2025) EndedAt: 2025-02-09 15:09:56 -0500 (Sun, 09 Feb 2025) EllapsedTime: 9.5 seconds RetCode: 0 Status: OK