Package: rsemmed Version: 1.17.0 Command: rm -rf rsemmed.buildbin-libdir && mkdir rsemmed.buildbin-libdir && E:\biocbuild\bbs-3.21-bioc\R\bin\R.exe CMD INSTALL --build --library=rsemmed.buildbin-libdir rsemmed_1.17.0.tar.gz StartedAt: 2025-02-04 08:48:45 -0500 (Tue, 04 Feb 2025) EndedAt: 2025-02-04 08:49:05 -0500 (Tue, 04 Feb 2025) EllapsedTime: 19.5 seconds RetCode: 0 Status: OK PackageFile: rsemmed_1.17.0.zip PackageFileSize: 1.796 MiB