Package: runibic Version: 1.29.0 Command: /home/biocbuild/R/R/bin/R CMD build --keep-empty-dirs --no-resave-data runibic StartedAt: 2025-01-29 01:54:57 -0000 (Wed, 29 Jan 2025) EndedAt: 2025-01-29 01:55:54 -0000 (Wed, 29 Jan 2025) EllapsedTime: 57.0 seconds RetCode: 0 Status: OK PackageFile: runibic_1.29.0.tar.gz PackageFileSize: 45.64 KiB