Package: runibic Version: 1.29.0 Command: /home/biocbuild/bbs-3.21-bioc/R/bin/R CMD build --keep-empty-dirs --no-resave-data runibic StartedAt: 2025-02-09 19:02:19 -0500 (Sun, 09 Feb 2025) EndedAt: 2025-02-09 19:02:59 -0500 (Sun, 09 Feb 2025) EllapsedTime: 40.0 seconds RetCode: 0 Status: OK PackageFile: runibic_1.29.0.tar.gz PackageFileSize: 44.84 KiB