Package: runibic Version: 1.29.0 Command: /home/biocbuild/bbs-3.21-bioc/R/bin/R CMD INSTALL runibic StartedAt: 2025-02-09 15:35:52 -0500 (Sun, 09 Feb 2025) EndedAt: 2025-02-09 15:36:32 -0500 (Sun, 09 Feb 2025) EllapsedTime: 39.7 seconds RetCode: 0 Status: OK