Package: runibic Version: 1.29.0 Command: rm -rf runibic.buildbin-libdir && mkdir runibic.buildbin-libdir && E:\biocbuild\bbs-3.21-bioc\R\bin\R.exe CMD INSTALL --build --library=runibic.buildbin-libdir runibic_1.29.0.tar.gz StartedAt: 2025-02-10 08:36:33 -0500 (Mon, 10 Feb 2025) EndedAt: 2025-02-10 08:37:32 -0500 (Mon, 10 Feb 2025) EllapsedTime: 58.9 seconds RetCode: 0 Status: OK PackageFile: runibic_1.29.0.zip PackageFileSize: 536.8 KiB