Package: sSNAPPY Version: 1.11.0 Command: /home/biocbuild/R/R/bin/R CMD INSTALL sSNAPPY StartedAt: 2025-01-29 19:46:23 -0000 (Wed, 29 Jan 2025) EndedAt: 2025-01-29 19:47:05 -0000 (Wed, 29 Jan 2025) EllapsedTime: 42.5 seconds RetCode: 0 Status: OK