Package: sSNAPPY Version: 1.11.0 Command: rm -rf sSNAPPY.buildbin-libdir && mkdir sSNAPPY.buildbin-libdir && /Users/biocbuild/BBS/utils/build-universal.sh sSNAPPY_1.11.0.tar.gz /Library/Frameworks/R.framework/Resources/bin/R sSNAPPY.buildbin-libdir StartedAt: 2025-02-04 00:58:58 -0500 (Tue, 04 Feb 2025) EndedAt: 2025-02-04 00:59:42 -0500 (Tue, 04 Feb 2025) EllapsedTime: 44.1 seconds RetCode: 0 Status: OK PackageFile: sSNAPPY_1.11.0.tgz PackageFileSize: 4.371 MiB