Package: sSNAPPY Version: 1.11.0 Command: /Library/Frameworks/R.framework/Resources/bin/R CMD build --keep-empty-dirs --no-resave-data sSNAPPY StartedAt: 2025-02-09 18:37:40 -0500 (Sun, 09 Feb 2025) EndedAt: 2025-02-09 18:47:19 -0500 (Sun, 09 Feb 2025) EllapsedTime: 578.8 seconds RetCode: 0 Status: OK PackageFile: sSNAPPY_1.11.0.tar.gz PackageFileSize: 4.301 MiB