Package: sSNAPPY Version: 1.11.0 Command: /home/biocbuild/bbs-3.21-bioc/R/bin/R CMD INSTALL sSNAPPY StartedAt: 2025-02-09 15:32:56 -0500 (Sun, 09 Feb 2025) EndedAt: 2025-02-09 15:33:28 -0500 (Sun, 09 Feb 2025) EllapsedTime: 32.1 seconds RetCode: 0 Status: OK