Package: sSNAPPY Version: 1.11.0 Command: chmod a+r sSNAPPY -R && E:\biocbuild\bbs-3.21-bioc\R\bin\R.exe CMD build --keep-empty-dirs --no-resave-data sSNAPPY StartedAt: 2025-02-09 21:56:16 -0500 (Sun, 09 Feb 2025) EndedAt: 2025-02-09 22:06:55 -0500 (Sun, 09 Feb 2025) EllapsedTime: 639.2 seconds RetCode: 0 Status: OK PackageFile: sSNAPPY_1.11.0.tar.gz PackageFileSize: 2.33 MiB